BEGIN:VCALENDAR
VERSION:2.0
PRODID:-//Firm Foundation of VA - ECPv6.15.20//NONSGML v1.0//EN
CALSCALE:GREGORIAN
METHOD:PUBLISH
X-WR-CALNAME:Firm Foundation of VA
X-ORIGINAL-URL:https://www.firmfoundationva.org
X-WR-CALDESC:Events for Firm Foundation of VA
REFRESH-INTERVAL;VALUE=DURATION:PT1H
X-Robots-Tag:noindex
X-PUBLISHED-TTL:PT1H
BEGIN:VTIMEZONE
TZID:UTC
BEGIN:STANDARD
TZOFFSETFROM:+0000
TZOFFSETTO:+0000
TZNAME:UTC
DTSTART:20220101T000000
END:STANDARD
END:VTIMEZONE
BEGIN:VEVENT
DTSTART;TZID=UTC:20260321T110000
DTEND;TZID=UTC:20260321T150000
DTSTAMP:20260423T171937
CREATED:20260129T050347Z
LAST-MODIFIED:20260402T181954Z
UID:4624-1774090800-1774105200@www.firmfoundationva.org
SUMMARY:Annual Women's Empowerment Brunch
DESCRIPTION:Early bird special Tickets $45 until March 1st.\nWays to Purchase Tickets\n\n\nEventbrite\nCASHAPP: $FIRMFVA\nPAYPAL\n\nZelle  MPEELE@FIRMFOUNDATIONVA.ORG\n\n\n\n 
URL:https://www.firmfoundationva.org/event/annual-womens-empowerment-brunch/
LOCATION:Living Word Victory Center\, 422 Jamestown Avenue\, Annex Bldg\, Portsmouth\, VA\, 23704
END:VEVENT
BEGIN:VEVENT
DTSTART;TZID=UTC:20251206T150000
DTEND;TZID=UTC:20251206T190000
DTSTAMP:20260423T171937
CREATED:20250728T231543Z
LAST-MODIFIED:20251218T221716Z
UID:3666-1765033200-1765047600@www.firmfoundationva.org
SUMMARY:RED GALA
DESCRIPTION:This Red Gala is presented by Firm Foundation of VA.  It is not just about dinner and dancing\, it is about making a lasting impact in our community.  Your participation will help meet the needs of the expectant and single mothers and children in the local community who are facing increasing difficulties as they overcome homelessness and poverty.\n \nOUR SPONSOR \n\n 
URL:https://www.firmfoundationva.org/event/red-gala-save-the-date/
LOCATION:Tower Event Center\, 4040 Missy Elliott Blvd\, Portsmouth\, VA\, 23701\, United States
ATTACH;FMTTYPE=image/png:https://www.firmfoundationva.org/wp-content/uploads/2025/07/Red-Gala-Sponsorship-website-banner.png
END:VEVENT
BEGIN:VEVENT
DTSTART;TZID=UTC:20250322T110000
DTEND;TZID=UTC:20250322T150000
DTSTAMP:20260423T171937
CREATED:20250122T144958Z
LAST-MODIFIED:20250324T174517Z
UID:3175-1742641200-1742655600@www.firmfoundationva.org
SUMMARY:Women's Empowerment Brunch
DESCRIPTION:“Come Up Higher” ~ Luke 14:10\nFirm Foundation of Virginia Presents Women’s Empowerment Bruch
URL:https://www.firmfoundationva.org/event/womens-empowerment-brunch-2/
LOCATION:Fourth Baptist Church\, 726 South Street\, Portsmouth\, VA\, 23704\, United States
CATEGORIES:Public Event
ATTACH;FMTTYPE=image/png:https://www.firmfoundationva.org/wp-content/uploads/2025/01/womens-empowerment-2025.png
END:VEVENT
BEGIN:VEVENT
DTSTART;TZID=UTC:20241207T150000
DTEND;TZID=UTC:20241207T180000
DTSTAMP:20260423T171937
CREATED:20240717T210337Z
LAST-MODIFIED:20241102T231718Z
UID:2970-1733583600-1733594400@www.firmfoundationva.org
SUMMARY:RED Gala
DESCRIPTION:  \nThis Red Gala is presented by Firm Foundation of VA.  It is not just about dinner and dancing\, it is about making a lasting impact in our community.  Your participation will help meet the needs of the expectant and single mothers and children in the local community who are facing increasing difficulties as they overcome homelessness and poverty. \n  \nPLEASE CONTACT US FOR SPONSORSHIP INFORMATION \nPresenting Sponsor$5000Large Signage at eventWebsite HomepageRecognitionLogo on Gala materialPublic Service & Event Recognition6 seats (Sponsor Table)Call For More InfoFood & Beverage Sponsor$3000Mid Size Signage at eventWebsite HomepageRecognitionLogo on Gala material4 Seats (Reserved)Call For More InfoRed Sponsor$1000Website HomepageRecognitionLogo on Gala Material2 seats (Reserved)Call For More Info
URL:https://www.firmfoundationva.org/event/red-gala/
LOCATION:Tower Event Center\, 4040 Missy Elliott Blvd\, Portsmouth\, VA\, 23701\, United States
CATEGORIES:Public Event
ATTACH;FMTTYPE=image/png:https://www.firmfoundationva.org/wp-content/uploads/2024/07/REDGALAFLYER.png
END:VEVENT
BEGIN:VEVENT
DTSTART;TZID=UTC:20240323T110000
DTEND;TZID=UTC:20240323T160000
DTSTAMP:20260423T171937
CREATED:20240104T101318Z
LAST-MODIFIED:20240315T023042Z
UID:2671-1711191600-1711209600@www.firmfoundationva.org
SUMMARY:Women's Empowerment Brunch
DESCRIPTION:You are invited to join us as we gather together to be inspired\, equipped\, and strengthened.  Click the website link below for ticket information. \nDownload flyer
URL:https://www.firmfoundationva.org/event/womens-empowerment-brunch/
LOCATION:Portsmouth Professional Firefighters & Paramedics IAFF Local 539\, 3704 Winchester Drive\, Portsmouth\, VA\, 23707\, United States
CATEGORIES:Public Event
ATTACH;FMTTYPE=image/png:https://www.firmfoundationva.org/wp-content/uploads/2024/03/Womens-Empowerment-Brunch-flyer-resized.png
END:VEVENT
BEGIN:VEVENT
DTSTART;TZID=UTC:20231209T100000
DTEND;TZID=UTC:20231209T150000
DTSTAMP:20260423T171937
CREATED:20231114T032809Z
LAST-MODIFIED:20231114T034021Z
UID:2613-1702116000-1702134000@www.firmfoundationva.org
SUMMARY:Family and Friends Day
DESCRIPTION:
URL:https://www.firmfoundationva.org/event/family-and-friends-day/
LOCATION:VA
CATEGORIES:Public Event
ATTACH;FMTTYPE=image/png:https://www.firmfoundationva.org/wp-content/uploads/2023/11/family-and-friends-day-event.png
END:VEVENT
END:VCALENDAR